BEGIN:VCALENDAR
VERSION:2.0
PRODID:-//Lumendi - ECPv6.15.20//NONSGML v1.0//EN
CALSCALE:GREGORIAN
METHOD:PUBLISH
X-WR-CALNAME:Lumendi
X-ORIGINAL-URL:https://lumendi.com
X-WR-CALDESC:Events for Lumendi
REFRESH-INTERVAL;VALUE=DURATION:PT1H
X-Robots-Tag:noindex
X-PUBLISHED-TTL:PT1H
BEGIN:VTIMEZONE
TZID:UTC
BEGIN:STANDARD
TZOFFSETFROM:+0000
TZOFFSETTO:+0000
TZNAME:UTC
DTSTART:20180101T000000
END:STANDARD
END:VTIMEZONE
BEGIN:VEVENT
DTSTART;VALUE=DATE:20210424
DTEND;VALUE=DATE:20210429
DTSTAMP:20260420T004956
CREATED:20210426T190556Z
LAST-MODIFIED:20210426T190556Z
UID:12901-1619222400-1619654399@lumendi.com
SUMMARY:ASCRS 2021
DESCRIPTION:2021 Annual Scientific Meeting\nThe 2021 American Society of Colon and Rectal Surgeons Annual Scientific Meeting will take place April 24-28\, 2021. As part of ASCRS commitment to the health and safety of the general public\, our members\, partners\, and meeting attendees\, it was decided to transition to an exclusively virtual meeting. \nView the 2021 Virtual Site Navigation Guide\nDownload the 2021 Annual Meeting Session Guide
URL:https://lumendi.com/events/ascrs-2021/
LOCATION:Virtual
CATEGORIES:ASCRS
ATTACH;FMTTYPE=image/jpeg:https://lumendi.com/wp-content/uploads/2021/04/ASCRS_AM21_TW-HEADER_1.jpeg
END:VEVENT
BEGIN:VEVENT
DTSTART;VALUE=DATE:20210424
DTEND;VALUE=DATE:20210429
DTSTAMP:20260420T004956
CREATED:20210426T190556Z
LAST-MODIFIED:20210426T190556Z
UID:14328-1619222400-1619654399@lumendi.com
SUMMARY:ASCRS 2021
DESCRIPTION:2021 Annual Scientific Meeting\nThe 2021 American Society of Colon and Rectal Surgeons Annual Scientific Meeting will take place April 24-28\, 2021. As part of ASCRS commitment to the health and safety of the general public\, our members\, partners\, and meeting attendees\, it was decided to transition to an exclusively virtual meeting. \nView the 2021 Virtual Site Navigation Guide\nDownload the 2021 Annual Meeting Session Guide
URL:https://lumendi.com/events/ascrs-2021-2/
LOCATION:Virtual
CATEGORIES:ASCRS
ATTACH;FMTTYPE=image/jpeg:https://lumendi.com/wp-content/uploads/2021/04/ASCRS_AM21_TW-HEADER_1.jpeg
END:VEVENT
BEGIN:VEVENT
DTSTART;VALUE=DATE:20200606
DTEND;VALUE=DATE:20200611
DTSTAMP:20260420T004956
CREATED:20200122T004123Z
LAST-MODIFIED:20200122T004123Z
UID:11122-1591401600-1591833599@lumendi.com
SUMMARY:2020 ASCRS Annual Scientific Meeting
DESCRIPTION:
URL:https://lumendi.com/events/2020-ascrs-annual-scientific-meeting/
LOCATION:Hynes Convention Center\, 900 Boylston St\, Boston\, MA\, 02115\, United States
CATEGORIES:ASCRS,Tradeshow
ATTACH;FMTTYPE=image/jpeg:https://lumendi.com/wp-content/uploads/2020/01/ASCR.jpg
END:VEVENT
BEGIN:VEVENT
DTSTART;VALUE=DATE:20190601
DTEND;VALUE=DATE:20190606
DTSTAMP:20260420T004956
CREATED:20190426T213452Z
LAST-MODIFIED:20190426T213452Z
UID:10649-1559347200-1559779199@lumendi.com
SUMMARY:American Society of Colon and Rectal Surgeons (ASCRS) 2019 Annual Scientific Meeting
DESCRIPTION:With emphasis on patient care\, teaching and research\, the 2019 Annual Scientific Meeting is designed for colon and rectal surgeons as well as general surgeons and others involved in the treatment of diseases affecting the colon\, rectum and anus. Our goal is to improve the quality of patient care by maintaining\, developing and enhancing the knowledge\, skills\, professional performance and multidisciplinary relationships necessary for the prevention\, diagnosis and treatment of patients with diseases and disorders affecting the colon\, rectum and anus. Come see podium presentations followed by audience questions and critiques\, panel discussions\, e-poster presentations\, video presentations and symposia focusing on specific state-of-the-art diagnostic and treatment modalities.
URL:https://lumendi.com/events/american-society-of-colon-and-rectal-surgeons-ascrs-2019-annual-scientific-meeting/
LOCATION:Huntington Convention Center of Cleveland\, 300 Lakeside Ave E.\, Cleveland\, OH\, 44113\, United States
CATEGORIES:ASCRS
ATTACH;FMTTYPE=image/jpeg:https://lumendi.com/wp-content/uploads/2019/04/2019-Annual-Scientific-Meeting.jpg
END:VEVENT
END:VCALENDAR