BEGIN:VCALENDAR
VERSION:2.0
PRODID:-//Lumendi - ECPv6.15.20//NONSGML v1.0//EN
CALSCALE:GREGORIAN
METHOD:PUBLISH
X-WR-CALNAME:Lumendi
X-ORIGINAL-URL:https://lumendi.com
X-WR-CALDESC:Events for Lumendi
REFRESH-INTERVAL;VALUE=DURATION:PT1H
X-Robots-Tag:noindex
X-PUBLISHED-TTL:PT1H
BEGIN:VTIMEZONE
TZID:America/New_York
BEGIN:DAYLIGHT
TZOFFSETFROM:-0500
TZOFFSETTO:-0400
TZNAME:EDT
DTSTART:20230312T070000
END:DAYLIGHT
BEGIN:STANDARD
TZOFFSETFROM:-0400
TZOFFSETTO:-0500
TZNAME:EST
DTSTART:20231105T060000
END:STANDARD
BEGIN:DAYLIGHT
TZOFFSETFROM:-0500
TZOFFSETTO:-0400
TZNAME:EDT
DTSTART:20240310T070000
END:DAYLIGHT
BEGIN:STANDARD
TZOFFSETFROM:-0400
TZOFFSETTO:-0500
TZNAME:EST
DTSTART:20241103T060000
END:STANDARD
BEGIN:DAYLIGHT
TZOFFSETFROM:-0500
TZOFFSETTO:-0400
TZNAME:EDT
DTSTART:20250309T070000
END:DAYLIGHT
BEGIN:STANDARD
TZOFFSETFROM:-0400
TZOFFSETTO:-0500
TZNAME:EST
DTSTART:20251102T060000
END:STANDARD
END:VTIMEZONE
BEGIN:VEVENT
DTSTART;VALUE=DATE:20240927
DTEND;VALUE=DATE:20240928
DTSTAMP:20260420T094825
CREATED:20240918T155344Z
LAST-MODIFIED:20240918T163124Z
UID:16810-1727395200-1727481599@lumendi.com
SUMMARY:AGS 2024 Annual Conference
DESCRIPTION:Spotlight Speaker\n \nMichael F Vaezi\, MD\, PhD\nProfessor of Medicine\nDivision of Gastroenterology\, Hepatology and Nutrition\nDr. Vaezi received a BS degree in Chemistry at Birmingham-Southern College. He then went to the University of Alabama at Birmingham and received his PhD in Bio-Organic Chemistry. From there\, Dr. Vaezi went to the University of Alabama School of Medicine were he received his MD degree in 1992. He completed a four-year academic residency in internal medicine in program focused on clinical research at the University of Alabama Hospitals in Birmingham Alabama. Subsequently\, he completed his fellowship in Gastroenterology at the Cleveland Clinic Foundation where he was elected as the Chief Fellow. He also received a Master’s in Epidemiology and Clinical Research from Case Western Reserve University. \nThe Alabama Gastroenterological Society (AGS) is a professional organization dedicated to promoting the advancement of gastroenterology and digestive health in Alabama. AGS serves as a platform for gastroenterologists and other healthcare professionals to exchange ideas and knowledge and to collaborate on initiatives aimed at improving patient care and outcomes. \nThe society also works to increase public awareness of digestive health issues and to advocate for policies that support the field of gastroenterology. Through its programs\, events\, and resources\, AGS is committed to advancing the practice of gastroenterology and ensuring the best possible care for patients with digestive health conditions.
URL:https://lumendi.com/events/ags-2024-annual-conference/
LOCATION:The Effie\, 1 Grand Sandestin Blvd\, Miramar Beach\, FL\, 32550\, United States
CATEGORIES:Annual Meeting,EGS
ATTACH;FMTTYPE=image/jpeg:https://lumendi.com/wp-content/uploads/2024/09/AGS_image.jpg
ORGANIZER;CN="The Alabama Gastroenterological Society":MAILTO:alabamagastrosociety@gmail.com
END:VEVENT
END:VCALENDAR