BEGIN:VCALENDAR
VERSION:2.0
PRODID:-//Lumendi - ECPv6.15.20//NONSGML v1.0//EN
CALSCALE:GREGORIAN
METHOD:PUBLISH
X-ORIGINAL-URL:https://lumendi.com
X-WR-CALDESC:Events for Lumendi
REFRESH-INTERVAL;VALUE=DURATION:PT1H
X-Robots-Tag:noindex
X-PUBLISHED-TTL:PT1H
BEGIN:VTIMEZONE
TZID:UTC
BEGIN:STANDARD
TZOFFSETFROM:+0000
TZOFFSETTO:+0000
TZNAME:UTC
DTSTART:20210101T000000
END:STANDARD
END:VTIMEZONE
BEGIN:VEVENT
DTSTART;VALUE=DATE:20221104
DTEND;VALUE=DATE:20221106
DTSTAMP:20260423T185522
CREATED:20220926T205956Z
LAST-MODIFIED:20220926T211428Z
UID:14841-1667520000-1667692799@lumendi.com
SUMMARY:ENDOCLUBNORD - 30 years of excellence
DESCRIPTION:Our partner Scopemind is pleased to be represented at ENDOCLUBNORD this year.\nENDOCLUBNORD was founded in 1991 as a practice-oriented training forum for gastroenterological endoscopy. In the meantime\, it has become the most important forum for medical professionals\, nursing staff\, and students. It is now one of the world’s largest congresses with live endoscopy\, with over 2\,000 participants each year. \nThe core of the event\, which takes place every year at the beginning of November in the Congress Center Hamburg (CCH)\, is – in addition to the areas of diagnostics and therapy in the endoscopic field – live broadcasts from the three participating clinics\, in which international top experts from all over the world present proven and innovative endoscopic procedures with the latest endoscope and processor technology while exchanging views in dialogue with the expert moderators. \nENDOCLUBNORD sets standards\, both in the format of the event and the technical implementation and interaction possibilities. \nPlease find the program here: \nhttps://endoclubnord.de/programm/programmuebersicht/
URL:https://lumendi.com/events/endoclubnord-2/
LOCATION:Congress Center Hamburg\, Am Messeplatz 1\, Hamburg\, 20355\, Germany
CATEGORIES:ENDOCLUBNORD
ATTACH;FMTTYPE=image/png:https://lumendi.com/wp-content/uploads/2022/09/Screen-Shot-2022-09-26-at-12.14.00-PM.png
END:VEVENT
END:VCALENDAR