BEGIN:VCALENDAR
VERSION:2.0
PRODID:-//Lumendi - ECPv6.15.20//NONSGML v1.0//EN
CALSCALE:GREGORIAN
METHOD:PUBLISH
X-ORIGINAL-URL:https://lumendi.com
X-WR-CALDESC:Events for Lumendi
REFRESH-INTERVAL;VALUE=DURATION:PT1H
X-Robots-Tag:noindex
X-PUBLISHED-TTL:PT1H
BEGIN:VTIMEZONE
TZID:UTC
BEGIN:STANDARD
TZOFFSETFROM:+0000
TZOFFSETTO:+0000
TZNAME:UTC
DTSTART:20180101T000000
END:STANDARD
END:VTIMEZONE
BEGIN:VEVENT
DTSTART;VALUE=DATE:20190621
DTEND;VALUE=DATE:20190623
DTSTAMP:20260420T055803
CREATED:20190430T175656Z
LAST-MODIFIED:20190430T175656Z
UID:14298-1561075200-1561247999@lumendi.com
SUMMARY:EndoSwiss 2019 – Live
DESCRIPTION:International Workshop on Diagnostic and Therapeutic En \n  \nThe international course on diagnostic and therapeutic endoscopy will present the latest developments in gastrointestinal endoscopy. International highly recognized pioneers and outstanding experts in this field will attend the meeting. Four sessions will cover a variety of endoscopic live procedures supplemented by presentations\, case discussions and State of the art lectures. \nInteractive teaching is a main focus of the meeting. A Masterclass imaging-teaching course will be separately organized and conducted by the Japanese Gastroenterological Endoscopy Society (JGES) and the Swiss Association of Gastrointestinal Pathology (SAGIP) one day before. \nFocus of this course is the detection\, description and classification of premalignant and cancerous GI lesions. The course follows the guidelines and policies of ASGE and ESGE for live demonstrations and is designed for gastroenterologists\, surgeons\, practicing physicians\, endoscopy nurses\, trainees and students. \nConference language will be English with simultaneous translation into Russian by native-speaking Russian endoscopists. The meeting will be live-streamed on Endo Academy and Endoscopy Campus.
URL:https://lumendi.com/events/endoswiss-2019-live-2/
LOCATION:Klinik Hirslanden\, Witellikerstrasse 40\, 8032 Zürich\, Zürich\, 8032\, Switzerland
CATEGORIES:Endolive,Endoscopy,EndoSwiss
ATTACH;FMTTYPE=image/jpeg:https://lumendi.com/wp-content/uploads/2019/04/endoswiss.jpg
END:VEVENT
END:VCALENDAR