BEGIN:VCALENDAR
VERSION:2.0
PRODID:-//Lumendi - ECPv6.15.20//NONSGML v1.0//EN
CALSCALE:GREGORIAN
METHOD:PUBLISH
X-WR-CALNAME:Lumendi
X-ORIGINAL-URL:https://lumendi.com
X-WR-CALDESC:Events for Lumendi
REFRESH-INTERVAL;VALUE=DURATION:PT1H
X-Robots-Tag:noindex
X-PUBLISHED-TTL:PT1H
BEGIN:VTIMEZONE
TZID:UTC
BEGIN:STANDARD
TZOFFSETFROM:+0000
TZOFFSETTO:+0000
TZNAME:UTC
DTSTART:20220101T000000
END:STANDARD
END:VTIMEZONE
BEGIN:VTIMEZONE
TZID:Europe/Dublin
BEGIN:DAYLIGHT
TZOFFSETFROM:+0000
TZOFFSETTO:+0100
TZNAME:IST
DTSTART:20220327T010000
END:DAYLIGHT
BEGIN:STANDARD
TZOFFSETFROM:+0100
TZOFFSETTO:+0000
TZNAME:GMT
DTSTART:20221030T010000
END:STANDARD
BEGIN:DAYLIGHT
TZOFFSETFROM:+0000
TZOFFSETTO:+0100
TZNAME:IST
DTSTART:20230326T010000
END:DAYLIGHT
BEGIN:STANDARD
TZOFFSETFROM:+0100
TZOFFSETTO:+0000
TZNAME:GMT
DTSTART:20231029T010000
END:STANDARD
BEGIN:DAYLIGHT
TZOFFSETFROM:+0000
TZOFFSETTO:+0100
TZNAME:IST
DTSTART:20240331T010000
END:DAYLIGHT
BEGIN:STANDARD
TZOFFSETFROM:+0100
TZOFFSETTO:+0000
TZNAME:GMT
DTSTART:20241027T010000
END:STANDARD
END:VTIMEZONE
BEGIN:VEVENT
DTSTART;VALUE=DATE:20230420
DTEND;VALUE=DATE:20230424
DTSTAMP:20260424T151909
CREATED:20190216T081353Z
LAST-MODIFIED:20230315T214956Z
UID:10464-1681948800-1682294399@lumendi.com
SUMMARY:ESGE Days 2023 - Lumendi’s booth #10
DESCRIPTION:Visit us at ESGE Days 2023\, booth #10\nThe goals of the European Society of Gastrointestinal Endoscopy (ESGE) have always been underpinned by the fundamental aims of increasing the quality of care\, establishing guidelines for best practices\, and developing educational programs. After the resounding success of our previous congresses\, we invite you to ESGE Days 2023\, taking place in Dublin\, Ireland\, in April 2023. \nESGE Days has already proven to be an attractive congress for all those interested in endoscopy. Our aspiration from the outset was to bring together the whole endoscopy team\, and we met our goal. Alongside fully trained endoscopists and heads of units\, nurses and the aspiring new generation of residents and fellows joined us in our field\, contributing to continued education and sharing the latest updates. In Dublin\, renowned experts will again gather for a state-of-the-art meeting\, bringing live demonstrations\, lectures\, hands-on training\, specialized symposia\, and discussions. \nAfter welcoming more than 1\,400 participants in Budapest in 2018 and 2\,400 participants from 97 countries in Prague in 2019\, we anticipate another highly successful congress in Dublin. Therefore\, we would like to welcome our colleagues\, fully trained and in training\, across gastroenterology and endoscopic nursing.
URL:https://lumendi.com/events/2023-european-society-of-gastrointestinal-endoscopy-esge/
LOCATION:The Convention Centre Dublin\, Spencer Dock\, N Wall Quay\, North Wall\, Dublin 1\, D01 T1W6\, Ireland
CATEGORIES:ESGE
ATTACH;FMTTYPE=image/jpeg:https://lumendi.com/wp-content/uploads/2019/02/esge2023.jpg
END:VEVENT
BEGIN:VEVENT
DTSTART;TZID=Europe/Dublin:20230420T170000
DTEND;TZID=Europe/Dublin:20230420T190000
DTSTAMP:20260424T151909
CREATED:20230327T195438Z
LAST-MODIFIED:20230413T220457Z
UID:16232-1682010000-1682017200@lumendi.com
SUMMARY:INVITATION TO OUR EXPERT MEETING IN DUBLIN
DESCRIPTION:We welcome Dr. Adolfo Parra-Blanco\, Nottingham\, UK to share his experience and the clinical value of DiLumen™️ EZ Glide\n \n  \nIn collaboration with our Distribution Partner in the UK\, Duomed. We will be demonstrating large intestine endoluminal resection techniques. \nThe Challenge of Difficult Polyps in the Large Intestine \nRegistration under this Link https://link.edgepilot.com/s/95d14fd1/1SUBdvHPDEa0EotQGl_PIw?u=https://www.duomed.com/en-GB/news-events/duomed-esge-days-dublin \nThursday April 20th\, 2023\, 5:00 p.m. \nThe Spencer Hotel | The Beckett Suite\nExcise Walk\, IFSC\, Dublin 1\, Ireland\, D01 X4C9\n+353 1 433 8800 \nSave your spot\nPlease confirm your attendance by Monday\, April 10th\, 2023. We look forward to welcoming you!
URL:https://lumendi.com/events/duomed-esge-days-dublin/
LOCATION:The Spencer Hotel\, Excise Walk\, Dublin\, IFSC\, D01 X4C9\, Ireland
CATEGORIES:EMR,ESD,ESGE
ATTACH;FMTTYPE=image/png:https://lumendi.com/wp-content/uploads/2023/03/Screen-Shot-2023-03-27-at-10.53.29-AM.png
END:VEVENT
END:VCALENDAR