BEGIN:VCALENDAR
VERSION:2.0
PRODID:-//Lumendi - ECPv6.15.20//NONSGML v1.0//EN
CALSCALE:GREGORIAN
METHOD:PUBLISH
X-WR-CALNAME:Lumendi
X-ORIGINAL-URL:https://lumendi.com
X-WR-CALDESC:Events for Lumendi
REFRESH-INTERVAL;VALUE=DURATION:PT1H
X-Robots-Tag:noindex
X-PUBLISHED-TTL:PT1H
BEGIN:VTIMEZONE
TZID:America/New_York
BEGIN:DAYLIGHT
TZOFFSETFROM:-0500
TZOFFSETTO:-0400
TZNAME:EDT
DTSTART:20240310T070000
END:DAYLIGHT
BEGIN:STANDARD
TZOFFSETFROM:-0400
TZOFFSETTO:-0500
TZNAME:EST
DTSTART:20241103T060000
END:STANDARD
BEGIN:DAYLIGHT
TZOFFSETFROM:-0500
TZOFFSETTO:-0400
TZNAME:EDT
DTSTART:20250309T070000
END:DAYLIGHT
BEGIN:STANDARD
TZOFFSETFROM:-0400
TZOFFSETTO:-0500
TZNAME:EST
DTSTART:20251102T060000
END:STANDARD
BEGIN:DAYLIGHT
TZOFFSETFROM:-0500
TZOFFSETTO:-0400
TZNAME:EDT
DTSTART:20260308T070000
END:DAYLIGHT
BEGIN:STANDARD
TZOFFSETFROM:-0400
TZOFFSETTO:-0500
TZNAME:EST
DTSTART:20261101T060000
END:STANDARD
END:VTIMEZONE
BEGIN:VEVENT
DTSTART;VALUE=DATE:20250403
DTEND;VALUE=DATE:20250406
DTSTAMP:20260421T014114
CREATED:20250127T170439Z
LAST-MODIFIED:20250127T171119Z
UID:17050-1743638400-1743897599@lumendi.com
SUMMARY:ESGE Days 2025
DESCRIPTION:About our event:\nThe European Society of Gastrointestinal Endoscopy is excited to host ESGE Days 2025 in the stunning Spanish city of Barcelona\, from April 3 – 5\, 2025\, with an in-person Postgraduate Course taking place April 2.\nThe ESGE Days 2025 event\, held in Barcelona\, Spain\, will bring together a diverse group of professionals in gastroenterology and endoscopy\, focusing on the latest advancements and best practices in these areas. This year’s theme emphasized the integration of innovative technologies and evidence-based methodologies to enhance patient care and treatment outcomes. \nThe event features a range of activities\, including keynote speeches from leading experts\, interactive workshops\, and poster presentations showcasing cutting-edge research. Participants had the opportunity to engage in discussions on various topics\, such as minimally invasive techniques\, patient safety\, and the role of artificial intelligence in endoscopic procedures. \nNetworking opportunities allow attendees to connect with peers and exchange knowledge\, fostering collaborations that could lead to future advancements in the field. The event concludes with insights into the future directions of gastroenterology and the importance of sustainability in healthcare practices. \nESGE Days 2025 serves as a vital platform for learning\, sharing expertise\, and shaping the future of gastroenterology and endoscopy.
URL:https://lumendi.com/events/esge-days-2025/
LOCATION:International Barcelona Convention Center\, Plaça de Willy Brandt\, Barcelona\, 11-14\,\, 08019\, Spain
CATEGORIES:Endoscopic,Endoscopy,Endoscopy Symposium,ESGE,Workshop
ATTACH;FMTTYPE=image/webp:https://lumendi.com/wp-content/uploads/2025/01/22-24-ESGE-Days-Graphics-1920-x-624-04.webp
END:VEVENT
END:VCALENDAR