BEGIN:VCALENDAR
VERSION:2.0
PRODID:-//Lumendi - ECPv6.15.20//NONSGML v1.0//EN
CALSCALE:GREGORIAN
METHOD:PUBLISH
X-ORIGINAL-URL:https://lumendi.com
X-WR-CALDESC:Events for Lumendi
REFRESH-INTERVAL;VALUE=DURATION:PT1H
X-Robots-Tag:noindex
X-PUBLISHED-TTL:PT1H
BEGIN:VTIMEZONE
TZID:UTC
BEGIN:STANDARD
TZOFFSETFROM:+0000
TZOFFSETTO:+0000
TZNAME:UTC
DTSTART:20220101T000000
END:STANDARD
END:VTIMEZONE
BEGIN:VEVENT
DTSTART;VALUE=DATE:20231117
DTEND;VALUE=DATE:20231118
DTSTAMP:20260422T063621
CREATED:20230316T180958Z
LAST-MODIFIED:20230727T184758Z
UID:16213-1700179200-1700265599@lumendi.com
SUMMARY:The Challenge of Managing Complex Colorectal Resections
DESCRIPTION:10:00 a.m.               Introduction\, Lecture\n12:00 p.m.               Lunch\n12:30 p.m.               Hands-on Explant Workshop\n4:00 p.m.                Closing Remarks & Feedback \nA limited number of participants\nClick Here To Register
URL:https://lumendi.com/events/the-challenge-of-managing-complex-colorectal-resections/
LOCATION:Pentax Europe GmbH\, Julius-Vosseler-Straße 104\, Hamburg\, 22527\, Germany
CATEGORIES:EMR,ESD,EZ Glide,Lecture,Skill Lab
ATTACH;FMTTYPE=image/jpeg:https://lumendi.com/wp-content/uploads/2023/03/hamburg.jpeg
ORGANIZER;CN="Lumendi":MAILTO:service@lumendi.com
END:VEVENT
END:VCALENDAR