BEGIN:VCALENDAR
VERSION:2.0
PRODID:-//Lumendi - ECPv6.15.20//NONSGML v1.0//EN
CALSCALE:GREGORIAN
METHOD:PUBLISH
X-ORIGINAL-URL:https://lumendi.com
X-WR-CALDESC:Events for Lumendi
REFRESH-INTERVAL;VALUE=DURATION:PT1H
X-Robots-Tag:noindex
X-PUBLISHED-TTL:PT1H
BEGIN:VTIMEZONE
TZID:America/New_York
BEGIN:DAYLIGHT
TZOFFSETFROM:-0500
TZOFFSETTO:-0400
TZNAME:EDT
DTSTART:20240310T070000
END:DAYLIGHT
BEGIN:STANDARD
TZOFFSETFROM:-0400
TZOFFSETTO:-0500
TZNAME:EST
DTSTART:20241103T060000
END:STANDARD
BEGIN:DAYLIGHT
TZOFFSETFROM:-0500
TZOFFSETTO:-0400
TZNAME:EDT
DTSTART:20250309T070000
END:DAYLIGHT
BEGIN:STANDARD
TZOFFSETFROM:-0400
TZOFFSETTO:-0500
TZNAME:EST
DTSTART:20251102T060000
END:STANDARD
BEGIN:DAYLIGHT
TZOFFSETFROM:-0500
TZOFFSETTO:-0400
TZNAME:EDT
DTSTART:20260308T070000
END:DAYLIGHT
BEGIN:STANDARD
TZOFFSETFROM:-0400
TZOFFSETTO:-0500
TZNAME:EST
DTSTART:20261101T060000
END:STANDARD
END:VTIMEZONE
BEGIN:VEVENT
DTSTART;TZID=America/New_York:20250201T070000
DTEND;TZID=America/New_York:20250201T170000
DTSTAMP:20260421T050247
CREATED:20241111T162414Z
LAST-MODIFIED:20241111T165610Z
UID:16832-1738393200-1738429200@lumendi.com
SUMMARY:Advanced Hands-On Therapeutic Endoscopy Course at Mercy Medical Center
DESCRIPTION:Advanced Hands-On Therapeutic Endoscopy Course\nCourse Director: Sergey V. Kantsevoy\, MD\, PhD\nClinical Professor of Medicine\nUniversity of Maryland School of Medicine\nDirector of Therapeutic Endoscopy\nInstitute for Digestive Health and Liver Disease at Mercy Medical Center\, Baltimore\, Maryland\, USA \nCourse structure:  Lectures and hands-on training. \nSuggested audience: Physicians (gastroenterologists and surgeons) interested in learning and improving endoscopic mucosal resection (EMR)\, endoscopic submucosal dissection (ESD) and endoscopic suturing. Endoscopic procedure room nurses and technicians interested in learning and improving advanced therapeutic endoscopy skills. \nObjectives: \n\nTo review indications and currently available techniques of endoscopic piecemeal (EMR) and en-block resection (ESD) of GI tract lesions.\nTo review endoscopic suturing device and its practical use for endoscopic correction of obesity\, stent fixation\, closure of perforations\, fistulas and other indications.\n\nCourse participants will learn the following practical skills: \n\nEMR with submucosal fluid injection (injection needle and Coagrasper\, Olympus America\, Center Valley\, PA\, USA)\, Captivator EMR kit\, Captivator II snares\, Resolution 360 clips and RescueNet retrieval device (Boston Scientific Corporation\, Natick\, MA\, USA).\nClassic ESD with distal attachment\, injection needle\, Coagrasper\, Dual knife\, IT knife\, IT-nano\, SB knife\, TT knife\, Hook knives (Olympus America\, Center Valley\, PA\, USA) and DiLumen retractor (Lumendi LLC\, Westport\, CT\, USA)\nClassic ESD with distal attachment (Olympus America\, Center Valley\, PA\, USA)\, HybridKnife and VIO 3 generator (ERBE USA Inc\, Marietta\, GA\, USA).\nUse of Eleview™ for submucosal injection during EMR and ESD 5. Endoscopic suturing with Overstitch Suturing device (Apollo Endosurgery Inc\, Austin\, TX\, USA).\nESD with advanced traction device and dual channel endoscope\, TRACMOTION\, ClutchCutter\, and FlushKnife (FUJILFILM Healthcare Americas Corporation\, Lexington\, MA\, USA)\n\n\n\n\n\n\nSchedule \n\n\n\n\n7:00 AM – 7:30 AM\nContinental breakfast\n\n\n7:00 AM – 8:30 AM\nLecture: EMR and ESD\n\n\n8:30 AM – 12:00 PM\nHands-on stations to practice EMR and ESD\n\n\n12:00 PM – 12:30 PM\nLunch\n\n\n12:30 PM – 1:00 PM\nLecture: Endoscopic suturing for correction of obesity\, tissue approximation and other indications\n\n\n1:30 PM – 4:30 PM\nHands-on stations to practice endoscopic suturing and ESD\n\n\n4:30 PM – 5:00 PM\nQuestions and answers\n\n\n\n\nRegistration Fees:\nBring your team members (up to 2 people) at a discounted rate: \non or before July 25\, 2024\nPhysicians$ 500.00\nNurse / Technician $ 200.00 \nafter July 25\, 2024\nPhysicians$ 550.00\nNurse / Technician $250.00 \nTo register\, contact Dalibor Zafka at 410-951-7951 or dzafka@mdmercy.com \nDownload brochure
URL:https://lumendi.com/events/advanced-hands-on-therapeutic-endoscopy-course-at-mercy-medical-center-2/
LOCATION:Mercy Medical Center\, 345 St Paul Place\, Baltimore\, MD\, 21202\, United States
CATEGORIES:EMR,Lecture
ATTACH;FMTTYPE=image/webp:https://lumendi.com/wp-content/uploads/2023/08/lum_course2.webp
END:VEVENT
END:VCALENDAR