BEGIN:VCALENDAR
VERSION:2.0
PRODID:-//Lumendi - ECPv6.15.20//NONSGML v1.0//EN
CALSCALE:GREGORIAN
METHOD:PUBLISH
X-WR-CALNAME:Lumendi
X-ORIGINAL-URL:https://lumendi.com
X-WR-CALDESC:Events for Lumendi
REFRESH-INTERVAL;VALUE=DURATION:PT1H
X-Robots-Tag:noindex
X-PUBLISHED-TTL:PT1H
BEGIN:VTIMEZONE
TZID:UTC
BEGIN:STANDARD
TZOFFSETFROM:+0000
TZOFFSETTO:+0000
TZNAME:UTC
DTSTART:20220101T000000
END:STANDARD
END:VTIMEZONE
BEGIN:VEVENT
DTSTART;VALUE=DATE:20230331
DTEND;VALUE=DATE:20230401
DTSTAMP:20260422T204950
CREATED:20221128T235247Z
LAST-MODIFIED:20221129T210020Z
UID:14337-1680220800-1680307199@lumendi.com
SUMMARY:DiLumen™️ Skills Lab in Zürich
DESCRIPTION:Dr. Christoph Schlag is cordially inviting you to our DiLumen™️ Skills Lab in Zürich\nThe Challenge of Complex Polyp Removal\n(U)EMR and ESD and Other Advanced Resection Techniques With DiLumen EIP \nSign up for further information: \nhttps://mailchi.mp/lumendi/skillslab_zuerich#DiLumen
URL:https://lumendi.com/events/dilumen-skills-lab-in-zurich/
LOCATION:Careum Campus\, Pestalozzistrasse 3\, Zürich\, 8032\, Switzerland
CATEGORIES:Lecture,Skill Lab,Workshop
ATTACH;FMTTYPE=image/jpeg:https://lumendi.com/wp-content/uploads/2021/11/Skills-Lab-Zurich.jpg
ORGANIZER;CN="Lumendi":MAILTO:service@lumendi.com
END:VEVENT
END:VCALENDAR