BEGIN:VCALENDAR
VERSION:2.0
PRODID:-//Lumendi - ECPv6.15.20//NONSGML v1.0//EN
CALSCALE:GREGORIAN
METHOD:PUBLISH
X-ORIGINAL-URL:https://lumendi.com
X-WR-CALDESC:Events for Lumendi
REFRESH-INTERVAL;VALUE=DURATION:PT1H
X-Robots-Tag:noindex
X-PUBLISHED-TTL:PT1H
BEGIN:VTIMEZONE
TZID:UTC
BEGIN:STANDARD
TZOFFSETFROM:+0000
TZOFFSETTO:+0000
TZNAME:UTC
DTSTART:20230101T000000
END:STANDARD
END:VTIMEZONE
BEGIN:VEVENT
DTSTART;VALUE=DATE:20240920
DTEND;VALUE=DATE:20240923
DTSTAMP:20260421T143347
CREATED:20230909T004931Z
LAST-MODIFIED:20240221T202104Z
UID:16549-1726790400-1727049599@lumendi.com
SUMMARY:49th Annual Texas Society for Gastroenterology and Endoscopy Meeting
DESCRIPTION:2024 Exhibitor Registration Is Now Open!\nTSGE 49th Annual Texas Meeting\nSeptember 20-22\, 2024\nAustin Marriott Hotel\, Austin\, TX\nWe are thrilled to announce that our upcoming 49th Annual Texas Meeting is expected to attract over 300 esteemed professionals in the field\, including gastroenterologists\, GI nurses\, technicians and PAs at our upcoming meeting in 2024! Your support as an exhibitor will help keep registration fees low for our increasing number of attendees. \n    DOWNLOAD EXHIBITOR PROSPECTUS
URL:https://lumendi.com/events/annual-texas-society-for-gastroenterology-and-endoscopy-meeting/
LOCATION:Austin Marriott Downtown\, 304 E Cesar Chavez St\, Austin\, 78701\, United States
CATEGORIES:gastroenterology,Lecture,Texas Society for Gastroenterology and Endoscopy
ATTACH;FMTTYPE=image/png:https://lumendi.com/wp-content/uploads/2023/09/TSGE2024.png
ORGANIZER;CN="Texas Society for Gastroenterology and Endoscopy":MAILTO:ky@cameroams.com
END:VEVENT
END:VCALENDAR