BEGIN:VCALENDAR
VERSION:2.0
PRODID:-//Lumendi - ECPv6.15.20//NONSGML v1.0//EN
CALSCALE:GREGORIAN
METHOD:PUBLISH
X-ORIGINAL-URL:https://lumendi.com
X-WR-CALDESC:Events for Lumendi
REFRESH-INTERVAL;VALUE=DURATION:PT1H
X-Robots-Tag:noindex
X-PUBLISHED-TTL:PT1H
BEGIN:VTIMEZONE
TZID:UTC
BEGIN:STANDARD
TZOFFSETFROM:+0000
TZOFFSETTO:+0000
TZNAME:UTC
DTSTART:20180101T000000
END:STANDARD
END:VTIMEZONE
BEGIN:VEVENT
DTSTART;VALUE=DATE:20241212
DTEND;VALUE=DATE:20241214
DTSTAMP:20260420T055759
CREATED:20211211T203210Z
LAST-MODIFIED:20240530T164002Z
UID:14338-1733961600-1734134399@lumendi.com
SUMMARY:NYSGE 48th Annual NY Course
DESCRIPTION:We will be attending the 48th Annual New York Course\nThe 48th Annual New York Course is a premier GI conference held at the New York Marriott Marquis at the height of the winter holiday season. NYSGE members and attendees from across the country look forward to returning to Times Square for this year’s in-person event. \n \n    LEARN MORE AS DETAILS ARE RELEASED
URL:https://lumendi.com/events/nysge-48th-annual-ny-course/
LOCATION:New York Marriott Marquis Hotel Times Square\, 1535 Broadway\, New York\, NY\, 10036\, United States
CATEGORIES:NYSGE
ATTACH;FMTTYPE=image/jpeg:https://lumendi.com/wp-content/uploads/2021/12/NYSGE2024.jpg
ORGANIZER;CN="NYSGE":MAILTO:info@nysge.org
END:VEVENT
BEGIN:VEVENT
DTSTART;VALUE=DATE:20191218
DTEND;VALUE=DATE:20191220
DTSTAMP:20260420T055759
CREATED:20190710T233906Z
LAST-MODIFIED:20190710T233906Z
UID:10884-1576627200-1576799999@lumendi.com
SUMMARY:New York Society of Gastroenterology and Endoscopy (NYSGE)
DESCRIPTION:Under the direction of expert faculty\, this course is designed to improve endoscopic practice through live case presentations\, video and hands-on demonstrations\, educational lectures including audience interaction and questions\, and hands-on training using animal tissue models. \nThe course goals are to help participants improve their ability to accurately diagnose and effectively treat the spectrum of gastrointestinal diseases and disorders\, enhance quality and safety in all practice settings\, recognize trends in interventional endoscopic and surgical procedures\, apply state-of-the-art technology in a cost-effective way\, embrace advances in healthcare delivery\, payment\, and information sharing; and to foster an evidence-based approach to endoscopic decision-making for commonly encountered and controversial problems in gastroenterology. \nGastrointestinal endoscopy continues to experience rapid expansion of knowledge and technological innovation\, both of which are impacting the diagnosis and treatment of gastrointestinal disorders. Additionally\, advances in therapeutic endoscopy are challenging or entirely replacing certain endoscopic techniques that previously were purely diagnostic. Gastroenterologists must understand and effectively apply current and emerging diagnostic and treatment options while maximizing quality and safety. In view of these developments\, the need for superior continuing education becomes increasingly important. This course will enable participants to attain and apply cutting-edge information and evolving technological innovations to elevate practice levels and enhance patient care and treatment outcomes.
URL:https://lumendi.com/events/new-york-society-of-gastroenterology-and-endoscopy-nysge/
LOCATION:New York Marriott Marquis Hotel Times Square\, 1535 Broadway\, New York\, NY\, 10036\, United States
CATEGORIES:NYSGE
ATTACH;FMTTYPE=image/jpeg:https://lumendi.com/wp-content/uploads/2019/07/NYSGE.jpg
END:VEVENT
END:VCALENDAR