BEGIN:VCALENDAR
VERSION:2.0
PRODID:-//Lumendi - ECPv6.15.20//NONSGML v1.0//EN
CALSCALE:GREGORIAN
METHOD:PUBLISH
X-WR-CALNAME:Lumendi
X-ORIGINAL-URL:https://lumendi.com
X-WR-CALDESC:Events for Lumendi
REFRESH-INTERVAL;VALUE=DURATION:PT1H
X-Robots-Tag:noindex
X-PUBLISHED-TTL:PT1H
BEGIN:VTIMEZONE
TZID:America/New_York
BEGIN:DAYLIGHT
TZOFFSETFROM:-0500
TZOFFSETTO:-0400
TZNAME:EDT
DTSTART:20240310T070000
END:DAYLIGHT
BEGIN:STANDARD
TZOFFSETFROM:-0400
TZOFFSETTO:-0500
TZNAME:EST
DTSTART:20241103T060000
END:STANDARD
BEGIN:DAYLIGHT
TZOFFSETFROM:-0500
TZOFFSETTO:-0400
TZNAME:EDT
DTSTART:20250309T070000
END:DAYLIGHT
BEGIN:STANDARD
TZOFFSETFROM:-0400
TZOFFSETTO:-0500
TZNAME:EST
DTSTART:20251102T060000
END:STANDARD
BEGIN:DAYLIGHT
TZOFFSETFROM:-0500
TZOFFSETTO:-0400
TZNAME:EDT
DTSTART:20260308T070000
END:DAYLIGHT
BEGIN:STANDARD
TZOFFSETFROM:-0400
TZOFFSETTO:-0500
TZNAME:EST
DTSTART:20261101T060000
END:STANDARD
END:VTIMEZONE
BEGIN:VEVENT
DTSTART;VALUE=DATE:20250205
DTEND;VALUE=DATE:20250208
DTSTAMP:20260422T115826
CREATED:20250127T155440Z
LAST-MODIFIED:20250127T160158Z
UID:17029-1738713600-1738972799@lumendi.com
SUMMARY:Orlando Live Endoscopy 2025
DESCRIPTION:COURSE OVERVIEW \nThe symposium aims to establish a premier endoscopy unit through collaboration among physicians\, nurses\, and technicians. It will feature live demonstrations by internationally recognized experts\, focusing on advanced techniques and the latest innovations in endoscopic procedures for gastrointestinal and pancreaticobiliary diseases. The event will take place at the Nicholson Center\, with live liver endoscopic procedures showcased to highlight procedural success and patient safety. Additionally\, the course will educate nurses and technicians on using endoscopic equipment\, offering practical training to enhance their contributions to clinical practices. The overall goal is to provide a comprehensive learning experience that integrates new knowledge into participant’s roles in the endoscopy team. \n  \nSYMPOSIUM HIGHLIGHTS\nNURSE AND TECHNICIAN PROGRAM | Wednesday\, February 5th\, 2025 \n\nDedicated one day symposium for endoscopy nurses and technicians.\nState of the art didactic lectures.\nLive procedural demonstration with emphasis on nurse’s and technician’s role in endoscopy.\nHands on training lab focusing on nurse’s and technician’s endoscopy needs.\n\nPHYSICIAN PROGRAM | Thursday & Friday\, February 6th-7th\, 2025 \n\nTwo days of live procedural demonstrations by internationally renowned experts encompassing EUS\, ERCP\, endoscopic resections and 3rd space endoscopy.\nDemonstrate cutting-edge procedural techniques with emphasis on “How to do it safely and effectively” and how to manage procedure-related adverse events.\nState-of-the-art lectures\, interactive luncheon sessions\, satellite symposiums and self-assessment.\nHands-on-training lab focusing on interventions\, innovations and EUS cytopathology.\n\nCOURSE DIRECTORS \n\nMuhammad K. Hasan\, MD \n\nMustafa A. Arain\, MD \n\nNatalie Cosgrove\, MD \nEVENT DETAILS \nWHEN \n\nNurse and Technician Program February 5\nPhysician Program February 6-7\n\nWHERE \nADVENTHEALTH NICHOLSON CENTER\n404 Celebration Place\nCelebration\, FL 34747 \nCOURSE OBJECTIVES \nNURSE AND TECHICIAN PROGRAM | Wednesday\, February 5th\, 2025 \nAt the conclusion of the workshop\, participants should be able to: \n\nDiscuss recent endoscopic innovations and techniques and their clinical utility and effectiveness in disease management.\nDescribe how to operate endoscopic accessories and effectively assist during a procedure.\nIdentify best practices in endoscopic treatment of medical emergencies and patient preparation for advanced endoscopic procedures.\nRecognize the importance of an interdisciplinary approach to patient management.\nDiscuss ethics in therapeutic and diagnostic endoscopy.\n\nPHYSICIAN PROGRAM | Thursday & Friday\, February 6th-7th\, 2025 \nAs a result of participation in this program participants should be able to: \n\nIdentify recent innovations and advancements in diagnostic and therapeutic endoscopy and assess their clinical significance.\nDemonstrate the effective and safe performance of therapeutic and advanced endoscopic procedures\, as well as the management of procedure-related adverse events.\nDemonstrate therapeutic endoscopy skills and techniques through simulation and skills-based training in a hands-on laboratory setting\, using a variety models.\nDemonstrate effective diagnostic EUS evaluation and sampling.\nDiscuss advanced polyp resection techniques including EMR and ESD.\nIdentify the role of POEM and G-POEM in treatment of achalasia and gastroparesis\, respectively.\nDemonstrate therapeutic and advanced diagnostic EUS procedural techniques including portal pressure measurement\, EUS gastro-jejunostomy and EUS biliary access.\nDemonstrate procedural techniques including diagnostic and therapeutic EUS\, cytology slides preparation\, cholangioscopy\, resection techniques and hemostasis and defect closure techniques.
URL:https://lumendi.com/events/orlando-live-endoscopy-2025/
LOCATION:AdventHealth Nicholson Center\, 404 Celebration Place\, Celebration\, FL\, 34747\, United States
CATEGORIES:Endoscopy,Endoscopy Symposium,Orlando Live Endoscopy
ATTACH;FMTTYPE=image/webp:https://lumendi.com/wp-content/uploads/2025/01/orlando-Live-scaled.webp
END:VEVENT
END:VCALENDAR