BEGIN:VCALENDAR
VERSION:2.0
PRODID:-//Lumendi - ECPv6.15.20//NONSGML v1.0//EN
CALSCALE:GREGORIAN
METHOD:PUBLISH
X-ORIGINAL-URL:https://lumendi.com
X-WR-CALDESC:Events for Lumendi
REFRESH-INTERVAL;VALUE=DURATION:PT1H
X-Robots-Tag:noindex
X-PUBLISHED-TTL:PT1H
BEGIN:VTIMEZONE
TZID:America/New_York
BEGIN:DAYLIGHT
TZOFFSETFROM:-0500
TZOFFSETTO:-0400
TZNAME:EDT
DTSTART:20200308T070000
END:DAYLIGHT
BEGIN:STANDARD
TZOFFSETFROM:-0400
TZOFFSETTO:-0500
TZNAME:EST
DTSTART:20201101T060000
END:STANDARD
BEGIN:DAYLIGHT
TZOFFSETFROM:-0500
TZOFFSETTO:-0400
TZNAME:EDT
DTSTART:20210314T070000
END:DAYLIGHT
BEGIN:STANDARD
TZOFFSETFROM:-0400
TZOFFSETTO:-0500
TZNAME:EST
DTSTART:20211107T060000
END:STANDARD
BEGIN:DAYLIGHT
TZOFFSETFROM:-0500
TZOFFSETTO:-0400
TZNAME:EDT
DTSTART:20220313T070000
END:DAYLIGHT
BEGIN:STANDARD
TZOFFSETFROM:-0400
TZOFFSETTO:-0500
TZNAME:EST
DTSTART:20221106T060000
END:STANDARD
BEGIN:DAYLIGHT
TZOFFSETFROM:-0500
TZOFFSETTO:-0400
TZNAME:EDT
DTSTART:20230312T070000
END:DAYLIGHT
BEGIN:STANDARD
TZOFFSETFROM:-0400
TZOFFSETTO:-0500
TZNAME:EST
DTSTART:20231105T060000
END:STANDARD
END:VTIMEZONE
BEGIN:VTIMEZONE
TZID:UTC
BEGIN:STANDARD
TZOFFSETFROM:+0000
TZOFFSETTO:+0000
TZNAME:UTC
DTSTART:20200101T000000
END:STANDARD
END:VTIMEZONE
BEGIN:VEVENT
DTSTART;TZID=America/New_York:20220520T190000
DTEND;TZID=America/New_York:20220520T210000
DTSTAMP:20260419T210428
CREATED:20220509T205025Z
LAST-MODIFIED:20220603T235136Z
UID:13601-1653073200-1653080400@lumendi.com
SUMMARY:FREE webcast by Dr. Saitta
DESCRIPTION:DiLumen™ EIP in the Community Hospital Setting:\nDeveloping successful EMR programs for Complex Polypectomy\nPROGRAM OBJECTIVES \n\nLearning curve for implementing DiLumen into EMR Practice\nDiLumen’s facilitation of improved performance and efficiency in successful resections\nBuilding an EMR Practice in a community hospital setting\nOvercoming obstacles in creating a successful complex colon polypectomy program\n\nTARGET AUDIENCE \n\nAdvanced endoscopist\, and colorectal surgeons are performing EMR & ESD procedures.\nMember of industry seeking exposure to innovative devices used in complex polpectomies.\n\n\n\nTHURSDAY\, MAY 19\, 2022 at 7:30PM EDT\n\nClick here to register\n\n 
URL:https://lumendi.com/events/dr-saitta-webcast/
LOCATION:Virtual
CATEGORIES:EMR,Virtual
ATTACH;FMTTYPE=image/png:https://lumendi.com/wp-content/uploads/2022/05/Lumendi-complex-colon-polypectomy-in-the-community-setting-lum_016493-1300x500-1.png
END:VEVENT
BEGIN:VEVENT
DTSTART;TZID=America/New_York:20210331T120000
DTEND;TZID=America/New_York:20210331T140000
DTSTAMP:20260419T210428
CREATED:20210318T194944Z
LAST-MODIFIED:20210318T194944Z
UID:12704-1617192000-1617199200@lumendi.com
SUMMARY:LUMENDI WEBCAST: PIONEERING ENDOSURGERY
DESCRIPTION:CLICK HERE TO REGISTER\nJoin us for an update of Lumendi’s contributions towards improving colorectal EMR and ESD procedures\, and beyond\, with the DiLumen platforms.\nWe will provide an insight into the product features\, clinical benefits\, and achievements with DiLumen EZ Glide and C2.\nln addition\, an outlook on future applications of the platform will be presented via our speaker panel:
URL:https://lumendi.com/events/lumendi-webcast-pioneering-endosurgery/
LOCATION:Virtual
CATEGORIES:Endoscopy,Virtual
ATTACH;FMTTYPE=image/jpeg:https://lumendi.com/wp-content/uploads/2021/03/pioneering.jpg
END:VEVENT
BEGIN:VEVENT
DTSTART;TZID=America/New_York:20210331T120000
DTEND;TZID=America/New_York:20210331T140000
DTSTAMP:20260419T210428
CREATED:20210318T194944Z
LAST-MODIFIED:20210318T194944Z
UID:14326-1617192000-1617199200@lumendi.com
SUMMARY:LUMENDI WEBCAST: PIONEERING ENDOSURGERY
DESCRIPTION:CLICK HERE TO REGISTER\nJoin us for an update of Lumendi’s contributions towards improving colorectal EMR and ESD procedures\, and beyond\, with the DiLumen platforms.\nWe will provide an insight into the product features\, clinical benefits\, and achievements with DiLumen EZ Glide and C2.\nln addition\, an outlook on future applications of the platform will be presented via our speaker panel:
URL:https://lumendi.com/events/lumendi-webcast-pioneering-endosurgery-2/
LOCATION:Virtual
CATEGORIES:Endoscopy,Virtual
ATTACH;FMTTYPE=image/jpeg:https://lumendi.com/wp-content/uploads/2021/03/pioneering.jpg
END:VEVENT
BEGIN:VEVENT
DTSTART;VALUE=DATE:20210327
DTEND;VALUE=DATE:20210329
DTSTAMP:20260419T210428
CREATED:20210323T200604Z
LAST-MODIFIED:20210323T200604Z
UID:12823-1616803200-1616975999@lumendi.com
SUMMARY:VIRTUAL CONFERENCE – GI & LIVER COURSE Managing & Avoiding Complications
DESCRIPTION:NEEDS\nUpdating practicing physicians and other health professionals in both the diagnosis and management of gastrointestinal and liver diseases/conditions is essential to providing quality care leading to improved patient outcomes. The goal of this activity is to review current as well as emerging medical therapies and to outline the most effective ways to integrate this information into clinical practice. \nTARGET AUDIENCE\nGastroenterologists\, hepatologists\, internists\, primary care physicians\, nurses\, physician assistants\,\nmedical trainees and students. \nOBJECTIVES\nAt the conclusion of the activity\, participants should be able to \n\nIdentify the different types of esophageal diverticulums and how to treat them.\nDiscuss the long-term side effects of proton pump inhibitors and how to counsel patients on limiting the side effects and adverse events.\nDescribe the indications and long-term efficacy of endoscopic and surgical fundoplication in patients with GERD.\nDescribe how to prevent strictures and perforation when managing patients with eosinophilic esophagitis.\nIdentify the surveillance for patients with gastric intestinal metaplasia and the different management methods.\n\nDOWNLOAD BROCHURE
URL:https://lumendi.com/events/gi-liver-course-managing-avoiding-complications/
LOCATION:Baylor College of Medicine\, TX\, United States
CATEGORIES:Baylor,Liver,Virtual
ATTACH;FMTTYPE=image/jpeg:https://lumendi.com/wp-content/uploads/2021/03/gi-liver-course.jpg
END:VEVENT
BEGIN:VEVENT
DTSTART;TZID=America/New_York:20210114T200000
DTEND;TZID=America/New_York:20210114T200000
DTSTAMP:20260419T210428
CREATED:20210111T224826Z
LAST-MODIFIED:20210111T224826Z
UID:12119-1610654400-1610654400@lumendi.com
SUMMARY:Reimbursement for Complex Endoscopic Resection\, Navigating the Tortuous Road (Dr. Othman)
DESCRIPTION:Reimbursement for Complex Endoscopic Resection\, Navigating the Tortuous Road (Dr. Othman)\nOverview: \nThis webinar focuses on both reimbursement challenges and practical solutions for Endoscopic Submucosal Dissection (ESD) in mainstream practice. Dr. Othman and ASGE Staff will cover the following topics (via video\, lecture\, and interactive Q&A discussion): \n\nEstablishing a sustainable complex endoscopic resection program\nNavigating reimbursement of the physician fees for ESD procedures\nIntegrating an ESD practice within an RVU-based system\n\n \nWho Should Participate? \n\nGastroenterologists\, advanced endoscopists\nColorectal surgeons performing complex polyp resection\nMembers of hospital value analysis committees and administration\n\nAgenda \n\nWelcome and Introduction (ASGE Staff) Mohamed Othman\, MD\nReimbursement for Complex Endoscopic Resection\, Navigating the Tortuous Road (Dr. Othman)\nQ&A from Audience (ASGE Staff/Dr. Othman)\nHighlights and Final Take Away Points (Dr. Othman)\n\n[button color=”undefined” hover_text_color_override=”undefined” url=”https://public.asge.org/Public/Events/Event_Display.aspx?EventKey=WEB111220&WebsiteKey=fdb869b8-75af-46de-949c-a78efb8d5549″ text=”Register today” color_override=””]
URL:https://lumendi.com/events/reimbursement-for-complex-endoscopic-resection-navigating-the-tortuous-road-dr-othman/
LOCATION:Virtual
CATEGORIES:ASGE,Virtual
ATTACH;FMTTYPE=image/jpeg:https://lumendi.com/wp-content/uploads/2021/01/Navigating-the-Tortuous-Colon-Header.jpg
END:VEVENT
END:VCALENDAR